Workbook

Sheet BDO360
H16: Przykładowy arkusz prowadzenia ewidencji opakowań

Sheet Podsumowanie
A1: ILOŚĆ [szt.] | I1: MASA [kg]
A2: Materiał | B2: Papier i tektura | E2: Tworzywo sztuczne | I2: Materiał | J2: Papier i tektura | M2: Tworzywo sztuczne
A3: Opakowanie | B3: Karton - gabaryt A | C3: Karton - gabaryt B | D3: Karton - gabaryt C | E3: Foliopak | F3: Taśma pakowa | G3: Folia strech (rolka) | I3: Opakowanie | J3: Karton - gabaryt A | K3: Karton - gabaryt B | L3: Karton - gabaryt C | M3: Foliopak | N3: Taśma pakowa | O3: Folia strech (rolka)
A4: Styczeń | B4: =Styczeń!C35 -> 13 | C4: =Styczeń!D35 -> 19 | D4: =Styczeń!E35 -> 16 | E4: =Styczeń!F35 -> 2 | F4: =Styczeń!G35 -> 2 | G4: =Styczeń!H35 -> 1 | I4: Styczeń | J4: =Styczeń!C36 -> 1.56 | K4: =Styczeń!D36 -> 6.08 | L4: =Styczeń!E36 -> 8 | M4: =Styczeń!F36 -> 0.1 | N4: =Styczeń!G36 -> 0.24 | O4: =Styczeń!H36 -> 2.5
A5: Luty | B5: =Luty!C35 -> 13 | C5: =Luty!D35 -> 19 | D5: =Luty!E35 -> 16 | E5: =Luty!F35 -> 2 | F5: =Luty!G35 -> 2 | G5: =Luty!H35 -> 1 | I5: Luty | J5: =Luty!C36 -> 1.56 | K5: =Luty!D36 -> 6.08 | L5: =Luty!E36 -> 8 | M5: =Luty!F36 -> 0.1 | N5: =Luty!G36 -> 0.24 | O5: =Luty!H36 -> 2.5
A6: Marzec | B6: =Marzec!C35 -> 13 | C6: =Marzec!D35 -> 19 | D6: =Marzec!E35 -> 16 | E6: =Marzec!F35 -> 2 | F6: =Marzec!G35 -> 2 | G6: =Marzec!H35 -> 1 | I6: Marzec | J6: =Marzec!C36 -> 1.56 | K6: =Marzec!D36 -> 6.08 | L6: =Marzec!E36 -> 8 | M6: =Marzec!F36 -> 0.1 | N6: =Marzec!G36 -> 0.24 | O6: =Marzec!H36 -> 2.5
A7: Kwiecień | B7: =Kwiecień!C35 -> 13 | C7: =Kwiecień!D35 -> 19 | D7: =Kwiecień!E35 -> 16 | E7: =Kwiecień!F35 -> 2 | F7: =Kwiecień!G35 -> 2 | G7: =Kwiecień!H35 -> 1 | I7: Kwiecień | J7: =Kwiecień!C36 -> 1.56 | K7: =Kwiecień!D36 -> 6.08 | L7: =Kwiecień!E36 -> 8 | M7: =Kwiecień!F36 -> 0.1 | N7: =Kwiecień!G36 -> 0.24 | O7: =Kwiecień!H36 -> 2.5
A8: Maj | B8: =Maj!C35 -> 13 | C8: =Maj!D35 -> 19 | D8: =Maj!E35 -> 16 | E8: =Maj!F35 -> 2 | F8: =Maj!G35 -> 2 | G8: =Maj!H35 -> 1 | I8: Maj | J8: =Maj!C36 -> 1.56 | K8: =Maj!D36 -> 6.08 | L8: =Maj!E36 -> 8 | M8: =Maj!F36 -> 0.1 | N8: =Maj!G36 -> 0.24 | O8: =Maj!H36 -> 2.5
A9: Czerwiec | B9: =Czerwiec!C35 -> 13 | C9: =Czerwiec!D35 -> 19 | D9: =Czerwiec!E35 -> 16 | E9: =Czerwiec!F35 -> 2 | F9: =Czerwiec!G35 -> 2 | G9: =Czerwiec!H35 -> 1 | I9: Czerwiec | J9: =Czerwiec!C36 -> 1.56 | K9: =Czerwiec!D36 -> 6.08 | L9: =Czerwiec!E36 -> 8 | M9: =Czerwiec!F36 -> 0.1 | N9: =Czerwiec!G36 -> 0.24 | O9: =Czerwiec!H36 -> 2.5
A10: Lipiec | B10: =Lipiec!C35 -> 13 | C10: =Lipiec!D35 -> 19 | D10: =Lipiec!E35 -> 16 | E10: =Lipiec!F35 -> 2 | F10: =Lipiec!G35 -> 2 | G10: =Lipiec!H35 -> 1 | I10: Lipiec | J10: =Lipiec!C36 -> 1.56 | K10: =Lipiec!D36 -> 6.08 | L10: =Lipiec!E36 -> 8 | M10: =Lipiec!F36 -> 0.1 | N10: =Lipiec!G36 -> 0.24 | O10: =Lipiec!H36 -> 2.5
A11: Sierpień | B11: =Sierpień!C35 -> 13 | C11: =Sierpień!D35 -> 19 | D11: =Sierpień!E35 -> 16 | E11: =Sierpień!F35 -> 2 | F11: =Sierpień!G35 -> 2 | G11: =Sierpień!H35 -> 1 | I11: Sierpień | J11: =Sierpień!C36 -> 1.56 | K11: =Sierpień!D36 -> 6.08 | L11: =Sierpień!E36 -> 8 | M11: =Sierpień!F36 -> 0.1 | N11: =Sierpień!G36 -> 0.24 | O11: =Sierpień!H36 -> 2.5
A12: Wrzesień | B12: =Wrzesień!C35 -> 13 | C12: =Wrzesień!D35 -> 19 | D12: =Wrzesień!E35 -> 16 | E12: =Wrzesień!F35 -> 2 | F12: =Wrzesień!G35 -> 2 | G12: =Wrzesień!H35 -> 1 | I12: Wrzesień | J12: =Wrzesień!C36 -> 1.56 | K12: =Wrzesień!D36 -> 6.08 | L12: =Wrzesień!E36 -> 8 | M12: =Wrzesień!F36 -> 0.1 | N12: =Wrzesień!G36 -> 0.24 | O12: =Wrzesień!H36 -> 2.5
A13: Październik | B13: =Październik!C35 -> 13 | C13: =Październik!D35 -> 19 | D13: =Październik!E35 -> 16 | E13: =Październik!F35 -> 2 | F13: =Październik!G35 -> 2 | G13: =Październik!H35 -> 1 | I13: Październik | J13: =Październik!C36 -> 1.56 | K13: =Październik!D36 -> 6.08 | L13: =Październik!E36 -> 8 | M13: =Październik!F36 -> 0.1 | N13: =Październik!G36 -> 0.24 | O13: =Październik!H36 -> 2.5
A14: Listopad | B14: =Listopad!C35 -> 13 | C14: =Listopad!D35 -> 19 | D14: =Listopad!E35 -> 16 | E14: =Listopad!F35 -> 2 | F14: =Listopad!G35 -> 2 | G14: =Listopad!H35 -> 1 | I14: Listopad | J14: =Listopad!C36 -> 1.56 | K14: =Listopad!D36 -> 6.08 | L14: =Listopad!E36 -> 8 | M14: =Listopad!F36 -> 0.1 | N14: =Listopad!G36 -> 0.24 | O14: =Listopad!H36 -> 2.5
A15: Grudzień | B15: =Grudzień!C35 -> 13 | C15: =Grudzień!D35 -> 19 | D15: =Grudzień!E35 -> 16 | E15: =Grudzień!F35 -> 2 | F15: =Grudzień!G35 -> 2 | G15: =Grudzień!H35 -> 1 | I15: Grudzień | J15: =Grudzień!C36 -> 1.56 | K15: =Grudzień!D36 -> 6.08 | L15: =Grudzień!E36 -> 8 | M15: =Grudzień!F36 -> 0.1 | N15: =Grudzień!G36 -> 0.24 | O15: =Grudzień!H36 -> 2.5
A16: Suma: | B16: =SUM(B4:B15) -> 156 | C16: =SUM(C4:C15) -> 228 | D16: =SUM(D4:D15) -> 192 | E16: =SUM(E4:E15) -> 24 | F16: =SUM(F4:F15) -> 24 | G16: =SUM(G4:G15) -> 12 | I16: Suma: | J16: =SUM(J4:J15) -> 18.72 | K16: =SUM(K4:K15) -> 72.96 | L16: =SUM(L4:L15) -> 96 | M16: =SUM(M4:M15) -> 1.2 | N16: =SUM(N4:N15) -> 2.88 | O16: =SUM(O4:O15) -> 30
A17: SUMA: | B17: =ROUNDUP(SUM(B16:D16),1) -> 576 | E17: =ROUNDUP(SUM(E16:G16),1) -> 60 | I17: SUMA: | J17: =ROUNDUP(SUM(J16:L16),1) -> 187.7 | M17: =ROUNDUP(SUM(M16:O16),1) -> 34.1

Sheet Styczeń
A1: Materiał | C1: Papier i tektura | F1: Tworzywo sztuczne
A2: Opakowania | C2: Karton - gabaryt A | D2: Karton - gabaryt B | E2: Karton - gabaryt C | F2: Foliopak | G2: Taśma pakowa | H2: Folia strech (rolka)
A3: Masa jedn. [kg] | C3: 0.12 | D3: 0.32 | E3: 0.5 | F3: 0.05 | G3: 0.12 | H3: 2.5
A4: Dzień miesiąca | B4: 1 | C4: 5
B5: 2 | D5: 6 | E5: 7 | F5: 2 | G5: 1
B6: 3 | C6: 4 | D6: 8
B7: 4 | D7: 2 | E7: 9 | H7: 1
B8: 5 | D8: 3
B9: 6 | C9: 4 | G9: 1
B10: 7
B11: 8
B12: 9
B13: 10
B14: 11
B15: 12
B16: 13
B17: 14
B18: 15
B19: 16
B20: 17
B21: 18
... B34: 31
A35: SUMA ilość | C35: =SUM(C4:C34) -> 13 | D35: =SUM(D4:D34) -> 19 | E35: =SUM(E4:E34) -> 16 | F35: =SUM(F4:F34) -> 2 | G35: =SUM(G4:G34) -> 2 | H35: =SUM(H4:H34) -> 1
A36: SUMA masa [kg] | C36: =C3*C35 -> 1.56 | D36: =D3*D35 -> 6.08 | E36: =E3*E35 -> 8 | F36: =F3*F35 -> 0.1 | G36: =G3*G35 -> 0.24 | H36: =H3*H35 -> 2.5

Sheet Luty
A1: Materiał | C1: Papier i tektura | F1: Tworzywo sztuczne
A2: Opakowania | C2: Karton - gabaryt A | D2: Karton - gabaryt B | E2: Karton - gabaryt C | F2: Foliopak | G2: Taśma pakowa | H2: Folia strech (rolka)
A3: Masa jedn. [kg] | C3: 0.12 | D3: 0.32 | E3: 0.5 | F3: 0.05 | G3: 0.12 | H3: 2.5
A4: Dzień miesiąca | B4: 1 | C4: 5
B5: 2 | D5: 6 | E5: 7 | F5: 2 | G5: 1
B6: 3 | C6: 4 | D6: 8
B7: 4 | D7: 2 | E7: 9 | H7: 1
B8: 5 | D8: 3
B9: 6 | C9: 4 | G9: 1
B10: 7
B11: 8
B12: 9
B13: 10
B14: 11
B15: 12
B16: 13
B17: 14
B18: 15
B19: 16
B20: 17
B21: 18
... B32: 29
A35: SUMA ilość | C35: =SUM(C4:C34) -> 13 | D35: =SUM(D4:D34) -> 19 | E35: =SUM(E4:E34) -> 16 | F35: =SUM(F4:F34) -> 2 | G35: =SUM(G4:G34) -> 2 | H35: =SUM(H4:H34) -> 1
A36: SUMA masa [kg] | C36: =C3*C35 -> 1.56 | D36: =D3*D35 -> 6.08 | E36: =E3*E35 -> 8 | F36: =F3*F35 -> 0.1 | G36: =G3*G35 -> 0.24 | H36: =H3*H35 -> 2.5

Sheet Marzec
A1: Materiał | C1: Papier i tektura | F1: Tworzywo sztuczne
A2: Opakowania | C2: Karton - gabaryt A | D2: Karton - gabaryt B | E2: Karton - gabaryt C | F2: Foliopak | G2: Taśma pakowa | H2: Folia strech (rolka)
A3: Masa jedn. [kg] | C3: 0.12 | D3: 0.32 | E3: 0.5 | F3: 0.05 | G3: 0.12 | H3: 2.5
A4: Dzień miesiąca | B4: 1 | C4: 5
B5: 2 | D5: 6 | E5: 7 | F5: 2 | G5: 1
B6: 3 | C6: 4 | D6: 8
B7: 4 | D7: 2 | E7: 9 | H7: 1
B8: 5 | D8: 3
B9: 6 | C9: 4 | G9: 1
B10: 7
B11: 8
B12: 9
B13: 10
B14: 11
B15: 12
B16: 13
B17: 14
B18: 15
B19: 16
B20: 17
B21: 18
... B34: 31
A35: SUMA ilość | C35: =SUM(C4:C34) -> 13 | D35: =SUM(D4:D34) -> 19 | E35: =SUM(E4:E34) -> 16 | F35: =SUM(F4:F34) -> 2 | G35: =SUM(G4:G34) -> 2 | H35: =SUM(H4:H34) -> 1
A36: SUMA masa [kg] | C36: =C3*C35 -> 1.56 | D36: =D3*D35 -> 6.08 | E36: =E3*E35 -> 8 | F36: =F3*F35 -> 0.1 | G36: =G3*G35 -> 0.24 | H36: =H3*H35 -> 2.5

Sheet Kwiecień
A1: Materiał | C1: Papier i tektura | F1: Tworzywo sztuczne
A2: Opakowania | C2: Karton - gabaryt A | D2: Karton - gabaryt B | E2: Karton - gabaryt C | F2: Foliopak | G2: Taśma pakowa | H2: Folia strech (rolka)
A3: Masa jedn. [kg] | C3: 0.12 | D3: 0.32 | E3: 0.5 | F3: 0.05 | G3: 0.12 | H3: 2.5
A4: Dzień miesiąca | B4: 1 | C4: 5
B5: 2 | D5: 6 | E5: 7 | F5: 2 | G5: 1
B6: 3 | C6: 4 | D6: 8
B7: 4 | D7: 2 | E7: 9 | H7: 1
B8: 5 | D8: 3
B9: 6 | C9: 4 | G9: 1
B10: 7
B11: 8
B12: 9
B13: 10
B14: 11
B15: 12
B16: 13
B17: 14
B18: 15
B19: 16
B20: 17
B21: 18
... B33: 30
A35: SUMA ilość | C35: =SUM(C4:C34) -> 13 | D35: =SUM(D4:D34) -> 19 | E35: =SUM(E4:E34) -> 16 | F35: =SUM(F4:F34) -> 2 | G35: =SUM(G4:G34) -> 2 | H35: =SUM(H4:H34) -> 1
A36: SUMA masa [kg] | C36: =C3*C35 -> 1.56 | D36: =D3*D35 -> 6.08 | E36: =E3*E35 -> 8 | F36: =F3*F35 -> 0.1 | G36: =G3*G35 -> 0.24 | H36: =H3*H35 -> 2.5

Sheet Maj
A1: Materiał | C1: Papier i tektura | F1: Tworzywo sztuczne
A2: Opakowania | C2: Karton - gabaryt A | D2: Karton - gabaryt B | E2: Karton - gabaryt C | F2: Foliopak | G2: Taśma pakowa | H2: Folia strech (rolka)
A3: Masa jedn. [kg] | C3: 0.12 | D3: 0.32 | E3: 0.5 | F3: 0.05 | G3: 0.12 | H3: 2.5
A4: Dzień miesiąca | B4: 1 | C4: 5
B5: 2 | D5: 6 | E5: 7 | F5: 2 | G5: 1
B6: 3 | C6: 4 | D6: 8
B7: 4 | D7: 2 | E7: 9 | H7: 1
B8: 5 | D8: 3
B9: 6 | C9: 4 | G9: 1
B10: 7
B11: 8
B12: 9
B13: 10
B14: 11
B15: 12
B16: 13
B17: 14
B18: 15
B19: 16
B20: 17
B21: 18
... B34: 31
A35: SUMA ilość | C35: =SUM(C4:C34) -> 13 | D35: =SUM(D4:D34) -> 19 | E35: =SUM(E4:E34) -> 16 | F35: =SUM(F4:F34) -> 2 | G35: =SUM(G4:G34) -> 2 | H35: =SUM(H4:H34) -> 1
A36: SUMA masa [kg] | C36: =C3*C35 -> 1.56 | D36: =D3*D35 -> 6.08 | E36: =E3*E35 -> 8 | F36: =F3*F35 -> 0.1 | G36: =G3*G35 -> 0.24 | H36: =H3*H35 -> 2.5

Sheet Czerwiec
A1: Materiał | C1: Papier i tektura | F1: Tworzywo sztuczne
A2: Opakowania | C2: Karton - gabaryt A | D2: Karton - gabaryt B | E2: Karton - gabaryt C | F2: Foliopak | G2: Taśma pakowa | H2: Folia strech (rolka)
A3: Masa jedn. [kg] | C3: 0.12 | D3: 0.32 | E3: 0.5 | F3: 0.05 | G3: 0.12 | H3: 2.5
A4: Dzień miesiąca | B4: 1 | C4: 5
B5: 2 | D5: 6 | E5: 7 | F5: 2 | G5: 1
B6: 3 | C6: 4 | D6: 8
B7: 4 | D7: 2 | E7: 9 | H7: 1
B8: 5 | D8: 3
B9: 6 | C9: 4 | G9: 1
B10: 7
B11: 8
B12: 9
B13: 10
B14: 11
B15: 12
B16: 13
B17: 14
B18: 15
B19: 16
B20: 17
B21: 18
... B33: 30
A35: SUMA ilość | C35: =SUM(C4:C34) -> 13 | D35: =SUM(D4:D34) -> 19 | E35: =SUM(E4:E34) -> 16 | F35: =SUM(F4:F34) -> 2 | G35: =SUM(G4:G34) -> 2 | H35: =SUM(H4:H34) -> 1
A36: SUMA masa [kg] | C36: =C3*C35 -> 1.56 | D36: =D3*D35 -> 6.08 | E36: =E3*E35 -> 8 | F36: =F3*F35 -> 0.1 | G36: =G3*G35 -> 0.24 | H36: =H3*H35 -> 2.5

Sheet Lipiec
A1: Materiał | C1: Papier i tektura | F1: Tworzywo sztuczne
A2: Opakowania | C2: Karton - gabaryt A | D2: Karton - gabaryt B | E2: Karton - gabaryt C | F2: Foliopak | G2: Taśma pakowa | H2: Folia strech (rolka)
A3: Masa jedn. [kg] | C3: 0.12 | D3: 0.32 | E3: 0.5 | F3: 0.05 | G3: 0.12 | H3: 2.5
A4: Dzień miesiąca | B4: 1 | C4: 5
B5: 2 | D5: 6 | E5: 7 | F5: 2 | G5: 1
B6: 3 | C6: 4 | D6: 8
B7: 4 | D7: 2 | E7: 9 | H7: 1
B8: 5 | D8: 3
B9: 6 | C9: 4 | G9: 1
B10: 7
B11: 8
B12: 9
B13: 10
B14: 11
B15: 12
B16: 13
B17: 14
B18: 15
B19: 16
B20: 17
B21: 18
... B34: 31
A35: SUMA ilość | C35: =SUM(C4:C34) -> 13 | D35: =SUM(D4:D34) -> 19 | E35: =SUM(E4:E34) -> 16 | F35: =SUM(F4:F34) -> 2 | G35: =SUM(G4:G34) -> 2 | H35: =SUM(H4:H34) -> 1
A36: SUMA masa [kg] | C36: =C3*C35 -> 1.56 | D36: =D3*D35 -> 6.08 | E36: =E3*E35 -> 8 | F36: =F3*F35 -> 0.1 | G36: =G3*G35 -> 0.24 | H36: =H3*H35 -> 2.5

Sheet Sierpień
A1: Materiał | C1: Papier i tektura | F1: Tworzywo sztuczne
A2: Opakowania | C2: Karton - gabaryt A | D2: Karton - gabaryt B | E2: Karton - gabaryt C | F2: Foliopak | G2: Taśma pakowa | H2: Folia strech (rolka)
A3: Masa jedn. [kg] | C3: 0.12 | D3: 0.32 | E3: 0.5 | F3: 0.05 | G3: 0.12 | H3: 2.5
A4: Dzień miesiąca | B4: 1 | C4: 5
B5: 2 | D5: 6 | E5: 7 | F5: 2 | G5: 1
B6: 3 | C6: 4 | D6: 8
B7: 4 | D7: 2 | E7: 9 | H7: 1
B8: 5 | D8: 3
B9: 6 | C9: 4 | G9: 1
B10: 7
B11: 8
B12: 9
B13: 10
B14: 11
B15: 12
B16: 13
B17: 14
B18: 15
B19: 16
B20: 17
B21: 18
... B34: 31
A35: SUMA ilość | C35: =SUM(C4:C34) -> 13 | D35: =SUM(D4:D34) -> 19 | E35: =SUM(E4:E34) -> 16 | F35: =SUM(F4:F34) -> 2 | G35: =SUM(G4:G34) -> 2 | H35: =SUM(H4:H34) -> 1
A36: SUMA masa [kg] | C36: =C3*C35 -> 1.56 | D36: =D3*D35 -> 6.08 | E36: =E3*E35 -> 8 | F36: =F3*F35 -> 0.1 | G36: =G3*G35 -> 0.24 | H36: =H3*H35 -> 2.5

Sheet Wrzesień
A1: Materiał | C1: Papier i tektura | F1: Tworzywo sztuczne
A2: Opakowania | C2: Karton - gabaryt A | D2: Karton - gabaryt B | E2: Karton - gabaryt C | F2: Foliopak | G2: Taśma pakowa | H2: Folia strech (rolka)
A3: Masa jedn. [kg] | C3: 0.12 | D3: 0.32 | E3: 0.5 | F3: 0.05 | G3: 0.12 | H3: 2.5
A4: Dzień miesiąca | B4: 1 | C4: 5
B5: 2 | D5: 6 | E5: 7 | F5: 2 | G5: 1
B6: 3 | C6: 4 | D6: 8
B7: 4 | D7: 2 | E7: 9 | H7: 1
B8: 5 | D8: 3
B9: 6 | C9: 4 | G9: 1
B10: 7
B11: 8
B12: 9
B13: 10
B14: 11
B15: 12
B16: 13
B17: 14
B18: 15
B19: 16
B20: 17
B21: 18
... B33: 30
A35: SUMA ilość | C35: =SUM(C4:C34) -> 13 | D35: =SUM(D4:D34) -> 19 | E35: =SUM(E4:E34) -> 16 | F35: =SUM(F4:F34) -> 2 | G35: =SUM(G4:G34) -> 2 | H35: =SUM(H4:H34) -> 1
A36: SUMA masa [kg] | C36: =C3*C35 -> 1.56 | D36: =D3*D35 -> 6.08 | E36: =E3*E35 -> 8 | F36: =F3*F35 -> 0.1 | G36: =G3*G35 -> 0.24 | H36: =H3*H35 -> 2.5

Sheet Październik
A1: Materiał | C1: Papier i tektura | F1: Tworzywo sztuczne
A2: Opakowania | C2: Karton - gabaryt A | D2: Karton - gabaryt B | E2: Karton - gabaryt C | F2: Foliopak | G2: Taśma pakowa | H2: Folia strech (rolka)
A3: Masa jedn. [kg] | C3: 0.12 | D3: 0.32 | E3: 0.5 | F3: 0.05 | G3: 0.12 | H3: 2.5
A4: Dzień miesiąca | B4: 1 | C4: 5
B5: 2 | D5: 6 | E5: 7 | F5: 2 | G5: 1
B6: 3 | C6: 4 | D6: 8
B7: 4 | D7: 2 | E7: 9 | H7: 1
B8: 5 | D8: 3
B9: 6 | C9: 4 | G9: 1
B10: 7
B11: 8
B12: 9
B13: 10
B14: 11
B15: 12
B16: 13
B17: 14
B18: 15
B19: 16
B20: 17
B21: 18
... B34: 31
A35: SUMA ilość | C35: =SUM(C4:C34) -> 13 | D35: =SUM(D4:D34) -> 19 | E35: =SUM(E4:E34) -> 16 | F35: =SUM(F4:F34) -> 2 | G35: =SUM(G4:G34) -> 2 | H35: =SUM(H4:H34) -> 1
A36: SUMA masa [kg] | C36: =C3*C35 -> 1.56 | D36: =D3*D35 -> 6.08 | E36: =E3*E35 -> 8 | F36: =F3*F35 -> 0.1 | G36: =G3*G35 -> 0.24 | H36: =H3*H35 -> 2.5

Sheet Listopad
A1: Materiał | C1: Papier i tektura | F1: Tworzywo sztuczne
A2: Opakowania | C2: Karton - gabaryt A | D2: Karton - gabaryt B | E2: Karton - gabaryt C | F2: Foliopak | G2: Taśma pakowa | H2: Folia strech (rolka)
A3: Masa jedn. [kg] | C3: 0.12 | D3: 0.32 | E3: 0.5 | F3: 0.05 | G3: 0.12 | H3: 2.5
A4: Dzień miesiąca | B4: 1 | C4: 5
B5: 2 | D5: 6 | E5: 7 | F5: 2 | G5: 1
B6: 3 | C6: 4 | D6: 8
B7: 4 | D7: 2 | E7: 9 | H7: 1
B8: 5 | D8: 3
B9: 6 | C9: 4 | G9: 1
B10: 7
B11: 8
B12: 9
B13: 10
B14: 11
B15: 12
B16: 13
B17: 14
B18: 15
B19: 16
B20: 17
B21: 18
... B33: 30
A35: SUMA ilość | C35: =SUM(C4:C34) -> 13 | D35: =SUM(D4:D34) -> 19 | E35: =SUM(E4:E34) -> 16 | F35: =SUM(F4:F34) -> 2 | G35: =SUM(G4:G34) -> 2 | H35: =SUM(H4:H34) -> 1
A36: SUMA masa [kg] | C36: =C3*C35 -> 1.56 | D36: =D3*D35 -> 6.08 | E36: =E3*E35 -> 8 | F36: =F3*F35 -> 0.1 | G36: =G3*G35 -> 0.24 | H36: =H3*H35 -> 2.5

Sheet Grudzień
A1: Materiał | C1: Papier i tektura | F1: Tworzywo sztuczne
A2: Opakowania | C2: Karton - gabaryt A | D2: Karton - gabaryt B | E2: Karton - gabaryt C | F2: Foliopak | G2: Taśma pakowa | H2: Folia strech (rolka)
A3: Masa jedn. [kg] | C3: 0.12 | D3: 0.32 | E3: 0.5 | F3: 0.05 | G3: 0.12 | H3: 2.5
A4: Dzień miesiąca | B4: 1 | C4: 5
B5: 2 | D5: 6 | E5: 7 | F5: 2 | G5: 1
B6: 3 | C6: 4 | D6: 8
B7: 4 | D7: 2 | E7: 9 | H7: 1
B8: 5 | D8: 3
B9: 6 | C9: 4 | G9: 1
B10: 7
B11: 8
B12: 9
B13: 10
B14: 11
B15: 12
B16: 13
B17: 14
B18: 15
B19: 16
B20: 17
B21: 18
... B34: 31
A35: SUMA ilość | C35: =SUM(C4:C34) -> 13 | D35: =SUM(D4:D34) -> 19 | E35: =SUM(E4:E34) -> 16 | F35: =SUM(F4:F34) -> 2 | G35: =SUM(G4:G34) -> 2 | H35: =SUM(H4:H34) -> 1
A36: SUMA masa [kg] | C36: =C3*C35 -> 1.56 | D36: =D3*D35 -> 6.08 | E36: =E3*E35 -> 8 | F36: =F3*F35 -> 0.1 | G36: =G3*G35 -> 0.24 | H36: =H3*H35 -> 2.5
